BEGIN:VCALENDAR
VERSION:2.0
PRODID:-//Jugendzentrum Hechingen - ECPv6.5.1.4//NONSGML v1.0//EN
CALSCALE:GREGORIAN
METHOD:PUBLISH
X-ORIGINAL-URL:https://juz-hechingen.de
X-WR-CALDESC:Veranstaltungen für Jugendzentrum Hechingen
REFRESH-INTERVAL;VALUE=DURATION:PT1H
X-Robots-Tag:noindex
X-PUBLISHED-TTL:PT1H
BEGIN:VTIMEZONE
TZID:Europe/Berlin
BEGIN:DAYLIGHT
TZOFFSETFROM:+0100
TZOFFSETTO:+0200
TZNAME:CEST
DTSTART:20230326T010000
END:DAYLIGHT
BEGIN:STANDARD
TZOFFSETFROM:+0200
TZOFFSETTO:+0100
TZNAME:CET
DTSTART:20231029T010000
END:STANDARD
END:VTIMEZONE
BEGIN:VEVENT
DTSTART;VALUE=DATE:20230303
DTEND;VALUE=DATE:20230325
DTSTAMP:20260425T122913
CREATED:20230309T185611Z
LAST-MODIFIED:20230309T185719Z
UID:570-1677801600-1679702399@juz-hechingen.de
SUMMARY:Fitnessmonat März 2023
DESCRIPTION:Im gesamten Monat März gibt es viele verschiedene Sportangebote\, um fit zu werden und zu bleiben. Schaut in unser Programm und pickt euch raus\, worauf ihr Lust habt – es ist sicher für jede/n was dabei!😀🏋‍♀️🤸 \nDANKE AN DIE KOOPERATIONSPARTNER*INNEN @anyone_fitness.hechingen\n@downtown_hechingen \n \n#fitness #fastenzeit #healthymonth #sport #gesunderezepte #gesundheit #fitnessmonat #jugendarbeit #juz_hechingen_379 #hechingen #jugend #fitwerden #fitbleiben💪
URL:https://juz-hechingen.de/event/fitnessmonat-maerz-2023/
ATTACH;FMTTYPE=image/jpeg:https://juz-hechingen.de/wp-content/uploads/2023/03/Monatsuebersicht-Maerz-2023.jpg
END:VEVENT
END:VCALENDAR