BEGIN:VCALENDAR
VERSION:2.0
PRODID:-//Jugendzentrum Hechingen - ECPv6.5.1.4//NONSGML v1.0//EN
CALSCALE:GREGORIAN
METHOD:PUBLISH
X-WR-CALNAME:Jugendzentrum Hechingen
X-ORIGINAL-URL:https://juz-hechingen.de
X-WR-CALDESC:Veranstaltungen für Jugendzentrum Hechingen
REFRESH-INTERVAL;VALUE=DURATION:PT1H
X-Robots-Tag:noindex
X-PUBLISHED-TTL:PT1H
BEGIN:VTIMEZONE
TZID:Europe/Berlin
BEGIN:DAYLIGHT
TZOFFSETFROM:+0100
TZOFFSETTO:+0200
TZNAME:CEST
DTSTART:20260329T010000
END:DAYLIGHT
BEGIN:STANDARD
TZOFFSETFROM:+0200
TZOFFSETTO:+0100
TZNAME:CET
DTSTART:20261025T010000
END:STANDARD
END:VTIMEZONE
BEGIN:VEVENT
DTSTART;VALUE=DATE:20261001
DTEND;VALUE=DATE:20261002
DTSTAMP:20260419T203747
CREATED:20260203T152549Z
LAST-MODIFIED:20260203T152549Z
UID:2172-1790812800-1790899199@juz-hechingen.de
SUMMARY:Fachtag zu Demokratie
DESCRIPTION:
URL:https://juz-hechingen.de/event/fachtag-zu-demokratie/
LOCATION:Juz Hechingen\, Kaufhausstraße 9\, Hechingen\, 72379\, Deutschland
END:VEVENT
BEGIN:VEVENT
DTSTART;VALUE=DATE:20261002
DTEND;VALUE=DATE:20261003
DTSTAMP:20260419T203747
CREATED:20260203T152621Z
LAST-MODIFIED:20260203T152621Z
UID:2174-1790899200-1790985599@juz-hechingen.de
SUMMARY:Lange Nacht der Demokratie
DESCRIPTION:
URL:https://juz-hechingen.de/event/lange-nacht-der-demokratie/
END:VEVENT
BEGIN:VEVENT
DTSTART;TZID=Europe/Berlin:20261030T080000
DTEND;TZID=Europe/Berlin:20261030T170000
DTSTAMP:20260419T203747
CREATED:20260203T152705Z
LAST-MODIFIED:20260203T152705Z
UID:2176-1793347200-1793379600@juz-hechingen.de
SUMMARY:Halloween-Party
DESCRIPTION:
URL:https://juz-hechingen.de/event/halloween-party/
LOCATION:Juz Hechingen\, Kaufhausstraße 9\, Hechingen\, 72379\, Deutschland
END:VEVENT
END:VCALENDAR