BEGIN:VCALENDAR
VERSION:2.0
PRODID:-//Jugendzentrum Hechingen - ECPv6.5.1.4//NONSGML v1.0//EN
CALSCALE:GREGORIAN
METHOD:PUBLISH
X-ORIGINAL-URL:https://juz-hechingen.de
X-WR-CALDESC:Veranstaltungen für Jugendzentrum Hechingen
REFRESH-INTERVAL;VALUE=DURATION:PT1H
X-Robots-Tag:noindex
X-PUBLISHED-TTL:PT1H
BEGIN:VTIMEZONE
TZID:Europe/Berlin
BEGIN:DAYLIGHT
TZOFFSETFROM:+0100
TZOFFSETTO:+0200
TZNAME:CEST
DTSTART:20230326T010000
END:DAYLIGHT
BEGIN:STANDARD
TZOFFSETFROM:+0200
TZOFFSETTO:+0100
TZNAME:CET
DTSTART:20231029T010000
END:STANDARD
END:VTIMEZONE
BEGIN:VEVENT
DTSTART;TZID=Europe/Berlin:20231203T110000
DTEND;TZID=Europe/Berlin:20231203T140000
DTSTAMP:20260421T121619
CREATED:20230320T162658Z
LAST-MODIFIED:20231127T175113Z
UID:618-1701601200-1701612000@juz-hechingen.de
SUMMARY:Ehrenamts-Brunch
DESCRIPTION:
URL:https://juz-hechingen.de/event/ehrenamts-brunch/
END:VEVENT
BEGIN:VEVENT
DTSTART;VALUE=DATE:20231215
DTEND;VALUE=DATE:20231216
DTSTAMP:20260421T121619
CREATED:20231213T135155Z
LAST-MODIFIED:20231213T135204Z
UID:1241-1702598400-1702684799@juz-hechingen.de
SUMMARY:Europa-Park Ausflug
DESCRIPTION:Im Rahmen der Aktion “Frohe Herzen” vom Europa-Park Rust\, macht die Mobile Jugendarbeit einen Ausflug in den Europa-Park. Sechs Jugendliche wurden innerhalb eines Gewinnspiels auf Instagram ausgelost\, die gemeinsam mit Julia\, unserer Streetworkerin\, am 15.12.2023 in den Europa-Park fahren. \n  \nTreffpunkt: 8 Uhr am Hechinger Bahnhof \nRückkehr: circa 21 Uhr am Hechinger Bahnhof \n  \nWir gratulieren nochmal den Gewinner*innen und bedanken uns bei allen Beteiligten\, die den Ausflug ermöglichen.
URL:https://juz-hechingen.de/event/europa-park-ausflug/
LOCATION:Europa Park
END:VEVENT
BEGIN:VEVENT
DTSTART;TZID=Europe/Berlin:20231219T153000
DTEND;TZID=Europe/Berlin:20231219T193000
DTSTAMP:20260421T121619
CREATED:20231213T135843Z
LAST-MODIFIED:20231213T135848Z
UID:1244-1702999800-1703014200@juz-hechingen.de
SUMMARY:Kegeln und Essen im Schützenhaus Hechingen
DESCRIPTION:Mit Winterprogramm und Christmas-Party gehts in die Winter-Pause \nVor unserer Winterpause veranstalten wir von Dienstag\, 19.12. bis Freitag\, den 22.12.23 neben den regulären Öffnungszeiten noch ein Winterprogramm für die Jugendlichen\, bevor dann das Jugendzentrum ab dem 23.12.23 bis zum 9.1.23 geschlossen bleibt.\nAm Dienstag\, den 19.12.23 werden im Mädchen-Café ab 16 Uhr die neuen Spiele aus dem Adventskalender für die Spielkonsole Nintendo Switch eingeweiht – wer also von den weiblichen Jugendlichen Lust hat\, eine Runde mitzuspielen\, ist hierzu herzlich eingeladen bis 20 Uhr. Wer Lust auf Kegeln und Essen gehen im Schützenhaus hat\, geht mit der Mobilen Jugendarbeit von 15:30 bis 19.30 Uhr mit. Bitte Geld für Essen und Getränke mitbringen\, circa 10 Euro pro Person.\n 
URL:https://juz-hechingen.de/event/kegeln-und-essen-im-schuetzenhaus-hechingen/
END:VEVENT
BEGIN:VEVENT
DTSTART;TZID=Europe/Berlin:20231220T180000
DTEND;TZID=Europe/Berlin:20231220T220000
DTSTAMP:20260421T121619
CREATED:20231213T140023Z
LAST-MODIFIED:20231213T140101Z
UID:1247-1703095200-1703109600@juz-hechingen.de
SUMMARY:Eislaufen in Balingen + MC Donalds
DESCRIPTION:Am Mittwoch\, den 20.12. geht es für die\, die nicht im Offenen Treff bis 20 Uhr bleiben wollen\, in die Eishalle Balingen @eishalle_balingen.offical . Treffpunkt ist hierfür 17.30 Uhr im JUZ und der Eigenanteil beträgt 10 Euro. Für den Besuch im MC Donald´s danach bitte ebenfalls Geld mitnehmen – Hin- und Rückfahrt um 22 Uhr mit dem Auto übernimmt das Streetwork-Team. Um Anmeldung wird gebeten\, da nur eine begrenzte Anzahl an Teilnehmenden möglich ist.
URL:https://juz-hechingen.de/event/eislaufen-in-balingen-mc-donalds/
END:VEVENT
BEGIN:VEVENT
DTSTART;TZID=Europe/Berlin:20231221T163000
DTEND;TZID=Europe/Berlin:20231221T200000
DTSTAMP:20260421T121619
CREATED:20231213T140309Z
LAST-MODIFIED:20231213T140312Z
UID:1249-1703176200-1703188800@juz-hechingen.de
SUMMARY:Kinobesuch im Schwanen-Kino Hechingen
DESCRIPTION:Am Donnerstag\, den 21.12. ist am Que(e)rbeet-Tag von 16 bis 20 Uhr queerer Treff und um 17.30 Uhr das Musikprojekt mit Dimi. Außerdem steht auf dem Winterprogramm ein Ausflug ins Schwanen-Kino in den Film „WONKA“. Treffpunkt ist um 16:00 Uhr vorm JUZ und dann laufen alle mit Streetworkerin Julia gemeinsam ins Kino – wer direkt hingeht: Treffpunkt 16:30 Uhr am Kino. Der Eigenanteil beträgt hier 7 Euro.
URL:https://juz-hechingen.de/event/kinobesuch-im-schwanen-kino-hechingen/
END:VEVENT
BEGIN:VEVENT
DTSTART;TZID=Europe/Berlin:20231222T190000
DTEND;TZID=Europe/Berlin:20231222T230000
DTSTAMP:20260421T121619
CREATED:20231127T175218Z
LAST-MODIFIED:20231213T140502Z
UID:1205-1703271600-1703286000@juz-hechingen.de
SUMMARY:X-Mas Party im JUZ
DESCRIPTION:Am Freitag\, den 22.12. leiten wir dann als Abschluss nach dem Offenen Treff von 16 bis 18:30 Uhr im Jugendzentrum mit frischen\, selbstgemachten süßen und salzigen Waffeln und heißem Winter-Punsch und Glühwein ab 19 Uhr eine Weihnachtsparty ein. Es gibt eine Christmas-Party mit Disco von 19 bis 21 Uhr für unter 16-jährige und ab 16 Jahren darf man bis 23 Uhr bleiben und sich mit Feiern mit uns in die Winterpause verabschieden.
URL:https://juz-hechingen.de/event/x-mas-party-im-juz/
LOCATION:Juz Hechingen\, Kaufhausstraße 9\, Hechingen\, 72379\, Deutschland
END:VEVENT
END:VCALENDAR