BEGIN:VCALENDAR
VERSION:2.0
PRODID:-//Jugendzentrum Hechingen - ECPv6.5.1.4//NONSGML v1.0//EN
CALSCALE:GREGORIAN
METHOD:PUBLISH
X-WR-CALNAME:Jugendzentrum Hechingen
X-ORIGINAL-URL:https://juz-hechingen.de
X-WR-CALDESC:Veranstaltungen für Jugendzentrum Hechingen
REFRESH-INTERVAL;VALUE=DURATION:PT1H
X-Robots-Tag:noindex
X-PUBLISHED-TTL:PT1H
BEGIN:VTIMEZONE
TZID:Europe/Berlin
BEGIN:DAYLIGHT
TZOFFSETFROM:+0100
TZOFFSETTO:+0200
TZNAME:CEST
DTSTART:20230326T010000
END:DAYLIGHT
BEGIN:STANDARD
TZOFFSETFROM:+0200
TZOFFSETTO:+0100
TZNAME:CET
DTSTART:20231029T010000
END:STANDARD
END:VTIMEZONE
BEGIN:VEVENT
DTSTART;TZID=Europe/Berlin:20230504T173000
DTEND;TZID=Europe/Berlin:20230504T190000
DTSTAMP:20260421T122131
CREATED:20230320T161750Z
LAST-MODIFIED:20230426T131444Z
UID:605-1683221400-1683226800@juz-hechingen.de
SUMMARY:Digitale Fußspuren: Was das Internet über mich weiß - TikTok\, WhatsApp\, Instagram & Co.
DESCRIPTION:  \nMedienpädagogischer Workshop am 4.5.23 von 17:30 bis 19:00 Uhr im JUZ Hechingen: \nDigitale Fußspuren durch Instagram\, WhatsApp\, TikTok & Co. – Was das Internet über mich weiß..  \n  \nDu benutzt Instagram\, WhatsApp\, TikTok\, Snapchat & Co und hast ein eigenes Handy? Dann bist du genau richtig! Entdecke die verborgenen Spuren\, die du im Internet hinterlässt! Werde Teil des aufregenden Workshops\, indem du lernst\, welche unglaublichen Informationen über dich bereits im Netz zu finden sind. Erfahre\, wie Internet-Firmen und Institutionen Interesse an deinen Daten haben und wie sie diese nutzen können\, um dein Leben zu beeinflussen. Werde Teil der Zukunft und lerne\, wie du deine Datenspuren bewusst steuern kannst. \nTobias Gäckle-Brauchler\, Medienpädagoge am Kreismedienzentrum wird als Experte auf dem Gebiet der Medienerziehung sein umfassendes Wissen für die Materie in den Workshop einbringen. Lass dich begeistern und tauche ein in die Welt der digitalen Spuren. Erlebe den Workshop\, der deine Sicht auf das Internet für immer verändern wird – präsentiert und organisiert von der VHS Hechingen! Und das alles findet im Jugendzentrum Hechingen statt\, dem modernen Treffpunkt für alle Jugendlichen in Hechingen!
URL:https://juz-hechingen.de/event/digitale-fussspuren-was-das-internet-ueber-mich-weiss-tiktok-whatsapp-instagram-co/
LOCATION:Juz Hechingen\, Kaufhausstraße 9\, Hechingen\, 72379\, Deutschland
ATTACH;FMTTYPE=image/png:https://juz-hechingen.de/wp-content/uploads/2023/03/Seite-1_Digitale-Fussspuren.png
END:VEVENT
END:VCALENDAR